BEGIN:VCALENDAR
VERSION:2.0
PRODID:-//SFF - ECPv6.15.17.1//NONSGML v1.0//EN
CALSCALE:GREGORIAN
METHOD:PUBLISH
X-WR-CALNAME:SFF
X-ORIGINAL-URL:https://sff-camara.com
X-WR-CALDESC:Events for SFF
REFRESH-INTERVAL;VALUE=DURATION:PT1H
X-Robots-Tag:noindex
X-PUBLISHED-TTL:PT1H
BEGIN:VTIMEZONE
TZID:UTC
BEGIN:STANDARD
TZOFFSETFROM:+0000
TZOFFSETTO:+0000
TZNAME:UTC
DTSTART:20240101T000000
END:STANDARD
END:VTIMEZONE
BEGIN:VEVENT
DTSTART;TZID=UTC:20250205T160000
DTEND;TZID=UTC:20250205T170000
DTSTAMP:20260420T134711
CREATED:20250204T090019Z
LAST-MODIFIED:20250204T092831Z
UID:16005-1738771200-1738774800@sff-camara.com
SUMMARY:05/02 Onsite conference  “Investment Bridge Latam- Iberia- Luxembourg: Strategies\, Innovation and Security”
DESCRIPTION:The Official Spanish Chamber of Commerce in Belgium and Luxembourg\, in collaboration with its member CMS Luxembourg\, Ebury Spain and TMF Group\, has the pleasure to invite you to a conference on “Investment Bridge Latam- Iberia- Luxembourg: Strategies\, Innovation and Security”. In a global context of increasing economic interconnection\, the investment bridge between Latin America\, Luxembourg and Spain is consolidating as a strategic way to access new investment opportunities. \nIn this conference\, we will analyze in detail the keys to optimize your operations in this dynamic market and discover how to make the most of Luxembourg as a strategic financial center to channel your investments. \nDuring this interactive session\, professionals from Ebury\, a leading fintech in international financial solutions\, CMS Luxemburg and TMF Group will guide you through innovative solutions to facilitate your international transactions\, manage currency risk and optimize the efficiency of your operations. \nThe conference will be followed by a networking cocktail. \nThe session will be held in English.
URL:https://sff-camara.com/agenda/05-02-onsite-conference-investment-bridge-latam-iberia-luxembourg-strategies-innovation-and-security/
LOCATION:CMS Group Luxembourg offices
ATTACH;FMTTYPE=image/png:https://sff-camara.com/wp-content/uploads/2025/02/Background-3-1.png
END:VEVENT
END:VCALENDAR